BEGIN:VCALENDAR
VERSION:2.0
PRODID:-//Starkl.co.uk - ECPv6.15.20//NONSGML v1.0//EN
CALSCALE:GREGORIAN
METHOD:PUBLISH
X-ORIGINAL-URL:https://starkl.co.uk
X-WR-CALDESC:Events for Starkl.co.uk
REFRESH-INTERVAL;VALUE=DURATION:PT1H
X-Robots-Tag:noindex
X-PUBLISHED-TTL:PT1H
BEGIN:VTIMEZONE
TZID:UTC
BEGIN:STANDARD
TZOFFSETFROM:+0000
TZOFFSETTO:+0000
TZNAME:UTC
DTSTART:20210101T000000
END:STANDARD
END:VTIMEZONE
BEGIN:VEVENT
DTSTART;TZID=UTC:20220412T080000
DTEND;TZID=UTC:20220412T170000
DTSTAMP:20260419T181014
CREATED:20220330T202702Z
LAST-MODIFIED:20220330T202702Z
UID:99-1649750400-1649782800@starkl.co.uk
SUMMARY:Event 6
DESCRIPTION:see if payments to test box works
URL:https://starkl.co.uk/upcomingevent/event-6/
LOCATION:Welsh Harp\, Birchen Grove\, Wembley\, nw9 8sa\, United Kingdom
CATEGORIES:Social Event
ATTACH;FMTTYPE=image/jpeg:https://starkl.co.uk/wp-content/uploads/2022/03/regatta-rgb-purple.jpg
END:VEVENT
BEGIN:VEVENT
DTSTART;TZID=UTC:20220406T080000
DTEND;TZID=UTC:20220406T170000
DTSTAMP:20260419T181014
CREATED:20220330T201932Z
LAST-MODIFIED:20220330T202110Z
UID:94-1649232000-1649264400@starkl.co.uk
SUMMARY:Event 5
DESCRIPTION:with tickets\, i hope
URL:https://starkl.co.uk/upcomingevent/event-5/
LOCATION:Welsh Harp\, Birchen Grove\, Wembley\, nw9 8sa\, United Kingdom
CATEGORIES:Social Event
END:VEVENT
BEGIN:VEVENT
DTSTART;TZID=UTC:20220404T080000
DTEND;TZID=UTC:20220404T170000
DTSTAMP:20260419T181014
CREATED:20220330T200704Z
LAST-MODIFIED:20220330T200704Z
UID:91-1649059200-1649091600@starkl.co.uk
SUMMARY:Event 4
DESCRIPTION:event 4 no cost
URL:https://starkl.co.uk/upcomingevent/event-4/
LOCATION:Welsh Harp\, Birchen Grove\, Wembley\, nw9 8sa\, United Kingdom
CATEGORIES:Social Event
ATTACH;FMTTYPE=image/jpeg:https://starkl.co.uk/wp-content/uploads/2022/03/camera2-ch1-05-07-2021-12-14-04.jpg
END:VEVENT
BEGIN:VEVENT
DTSTART;TZID=UTC:20220331T080000
DTEND;TZID=UTC:20220331T170000
DTSTAMP:20260419T181014
CREATED:20220330T212303Z
LAST-MODIFIED:20220330T212539Z
UID:108-1648713600-1648746000@starkl.co.uk
SUMMARY:Test status bar
DESCRIPTION:test status bar
URL:https://starkl.co.uk/upcomingevent/test-status-bar/
LOCATION:Welsh Harp\, Birchen Grove\, Wembley\, nw9 8sa\, United Kingdom
CATEGORIES:Social Event
END:VEVENT
END:VCALENDAR